BEGIN:VCALENDAR
VERSION:2.0
PRODID:icalendar-ruby
CALSCALE:GREGORIAN
METHOD:PUBLISH
BEGIN:VTIMEZONE
TZID:Australia/Brisbane
BEGIN:STANDARD
DTSTART:19920301T020000
TZOFFSETFROM:+1100
TZOFFSETTO:+1000
TZNAME:AEST
END:STANDARD
END:VTIMEZONE
BEGIN:VEVENT
DTSTAMP:20260422T040641Z
UID:inspection_3004883
DTSTART;TZID=Australia/Brisbane:20260426T103000
DTEND;TZID=Australia/Brisbane:20260426T110000
CLASS:PUBLIC
CREATED:20260420T125417
DESCRIPTION: 
LAST-MODIFIED:20260420T125417
LOCATION:8 Clutha Street\, WESTLAKE QLD 4074\, Australia
SUMMARY:8 Clutha Street\,  Inspection
URL;VALUE=URI:http://www.vandcorealty.com.au
END:VEVENT
END:VCALENDAR
